BEGIN:VCALENDAR
VERSION:2.0
PRODID:-//APDCRS - ECPv6.10.1.1//NONSGML v1.0//EN
CALSCALE:GREGORIAN
METHOD:PUBLISH
X-WR-CALNAME:APDCRS
X-ORIGINAL-URL:https://www.apdcrs.org
X-WR-CALDESC:Events for APDCRS
REFRESH-INTERVAL;VALUE=DURATION:PT1H
X-Robots-Tag:noindex
X-PUBLISHED-TTL:PT1H
BEGIN:VTIMEZONE
TZID:America/New_York
BEGIN:DAYLIGHT
TZOFFSETFROM:-0500
TZOFFSETTO:-0400
TZNAME:EDT
DTSTART:20230312T070000
END:DAYLIGHT
BEGIN:STANDARD
TZOFFSETFROM:-0400
TZOFFSETTO:-0500
TZNAME:EST
DTSTART:20231105T060000
END:STANDARD
END:VTIMEZONE
BEGIN:VEVENT
DTSTART;VALUE=DATE:20230322
DTEND;VALUE=DATE:20230325
DTSTAMP:20260421T112247
CREATED:20230210T012227Z
LAST-MODIFIED:20230210T012338Z
UID:3388-1679515200-1679687999@www.apdcrs.org
SUMMARY:7th Annual Advanced Endoscopy Colorectal Fellows Master Class
DESCRIPTION:7th ANNUAL ADVANCED ENDOSCOPY COLORECTAL FELLOWS MASTER CLASS. \nUSC Division of Colorectal Surgery invites all current ACGME Colorectal Fellows to participate in the 7th Annual Advanced Endoscopy Fellows Course.   The hands-on course is 1.5 days and is  offered on the following dates: \nFebruary 23 and 24\, 2023 \nMarch 23 and 24\, 2023 \nCourse Director – Dr. Sang W. Lee \nThe course  is limited to 25 fellows per course\, on a first come basis.   Click here for more information.  Reserve your Spot today by emailing Amelia Cordova at Amelia.Cordova@med.usc.edu.
URL:https://www.apdcrs.org/event/7th-annual-advanced-endoscopy-colorectal-fellows-master-class-2/
LOCATION:OH
CATEGORIES:Residents
END:VEVENT
END:VCALENDAR