BEGIN:VCALENDAR
VERSION:2.0
PRODID:-//APDCRS - ECPv6.10.1.1//NONSGML v1.0//EN
CALSCALE:GREGORIAN
METHOD:PUBLISH
X-ORIGINAL-URL:https://www.apdcrs.org
X-WR-CALDESC:Events for APDCRS
REFRESH-INTERVAL;VALUE=DURATION:PT1H
X-Robots-Tag:noindex
X-PUBLISHED-TTL:PT1H
BEGIN:VTIMEZONE
TZID:America/New_York
BEGIN:DAYLIGHT
TZOFFSETFROM:-0500
TZOFFSETTO:-0400
TZNAME:EDT
DTSTART:20230312T070000
END:DAYLIGHT
BEGIN:STANDARD
TZOFFSETFROM:-0400
TZOFFSETTO:-0500
TZNAME:EST
DTSTART:20231105T060000
END:STANDARD
END:VTIMEZONE
BEGIN:VEVENT
DTSTART;VALUE=DATE:20230602
DTEND;VALUE=DATE:20230607
DTSTAMP:20260421T081333
CREATED:20221110T204642Z
LAST-MODIFIED:20230414T203644Z
UID:3059-1685736000-1686081599@www.apdcrs.org
SUMMARY:2023 ASCRS Annual Scientific Meeting
DESCRIPTION:Learning Objectives\nThe purpose of the 2023 ASCRS Annual Scientific Meeting is to ensure high-quality patient care by advancing the science through research and education for prevention and management of disorders of the colon\, rectum\, and anus. At the conclusion of this meeting\, participants will be able to: \nDifferentiate between medical management\, surgical interventions\, and treatment strategies for benign medical conditions such as diverticulitis\, inflammatory bowel disease\, and endometriosis.\nIllustrate surgical techniques and medical management for the treatment of anorectal conditions.\nConstruct management strategies and treatment plans appropriate for malignant conditions.\nApply appropriate management techniques and treatment strategies for pelvic floor disorders.\nDemonstrate effective management techniques for perioperative complications and effective ERAS protocols. \n 
URL:https://www.apdcrs.org/event/2023-ascrs-annual-scientific-meeting/
LOCATION:Seattle Convention Center\, Seattle\, Washington
CATEGORIES:Directors and Coordinators,General,Residents
END:VEVENT
END:VCALENDAR